BEGIN:VCALENDAR
VERSION:2.0
PRODID:-//empowercdc.org//NONSGML kigkonsult.se iCalcreator 2.30.10//
CALSCALE:GREGORIAN
METHOD:PUBLISH
UID:a5231a52-7693-498b-9b13-d61d10ca04e9
X-WR-CALDESC:HEALTH & NUTRITION- Empower\nHealthier Foods\n@1:00PM\n\nFOOD 
 PANTRY- Empower\nMonthly Food Pantry\n@2:00PM\n\nSOCIAL- Empower\nBirthday
  Social\n@3:00PM
X-WR-RELCALID:d99456936402a6abdf4acd85387e2696
X-WR-TIMEZONE:America/Chicago
BEGIN:VTIMEZONE
TZID:America/Chicago
BEGIN:STANDARD
TZNAME:CST
DTSTART:20241103T020000
TZOFFSETFROM:-0500
TZOFFSETTO:-0600
RDATE:20251102T020000
END:STANDARD
BEGIN:DAYLIGHT
TZNAME:CDT
DTSTART:20240310T020000
TZOFFSETFROM:-0600
TZOFFSETTO:-0500
RDATE:20250309T020000
RDATE:20260308T020000
END:DAYLIGHT
END:VTIMEZONE
BEGIN:VEVENT
UID:ca455ce8-e924-4f32-bcab-8945406a733b
DTSTAMP:20260423T014201Z
DESCRIPTION:HEALTH & NUTRITION- Empower\nHealthier Foods\n@1:00PM\n\nFOOD P
 ANTRY- Empower\nMonthly Food Pantry\n@2:00PM\n\nSOCIAL- Empower\nBirthday 
 Social\n@3:00PM
DTSTART;TZID=America/Chicago:20241203T130000
DTEND;TZID=America/Chicago:20241203T160000
LOCATION:325 Flagship Boulevard\, Montgomery\, TX 77316 US
SUMMARY:The Heritage: Health & Nutrition\, Food Pantry\, Birthday Social
END:VEVENT
END:VCALENDAR
