BEGIN:VCALENDAR
VERSION:2.0
PRODID:-//empowercdc.org//NONSGML kigkonsult.se iCalcreator 2.30.10//
CALSCALE:GREGORIAN
METHOD:PUBLISH
UID:95f000b6-fda4-4f64-a51f-c1ab486443df
X-WR-CALDESC:ARTS & CRAFTS\nDIY UGLY TSHIRT\n@10AM\n\nARTS & CRAFTS\nDIY SO
 CK SNOWMAN\nCP -JEREMY\n@12PM\n\nEXERCISE\nREINDEER EXERCISE\nCP-JEFF TEXA
 N BENEFITS\n@1PM
X-WR-RELCALID:a2849829ccc70e44ec9dabfd3ebe44c9
X-WR-TIMEZONE:America/Chicago
BEGIN:VTIMEZONE
TZID:America/Chicago
BEGIN:STANDARD
TZNAME:CST
DTSTART:20241103T020000
TZOFFSETFROM:-0500
TZOFFSETTO:-0600
RDATE:20251102T020000
END:STANDARD
BEGIN:DAYLIGHT
TZNAME:CDT
DTSTART:20240310T020000
TZOFFSETFROM:-0600
TZOFFSETTO:-0500
RDATE:20250309T020000
RDATE:20260308T020000
END:DAYLIGHT
END:VTIMEZONE
BEGIN:VEVENT
UID:b1cfaeb1-8676-43ea-b432-e00960b4909f
DTSTAMP:20260423T013049Z
DESCRIPTION:ARTS & CRAFTS\nDIY UGLY TSHIRT\n@10AM\n\nARTS & CRAFTS\nDIY SOC
 K SNOWMAN\nCP -JEREMY\n@12PM\n\nEXERCISE\nREINDEER EXERCISE\nCP-JEFF TEXAN
  BENEFITS\n@1PM
DTSTART;TZID=America/Chicago:20241203T100000
DTEND;TZID=America/Chicago:20241203T140000
LOCATION:15707 Kuykendahl Ct\, Conroe\, TX 77384 US
SUMMARY:Kuykendalh Court: Arts & Crafts\, Exercise
END:VEVENT
END:VCALENDAR
