BEGIN:VCALENDAR
VERSION:2.0
PRODID:-//empowercdc.org//NONSGML kigkonsult.se iCalcreator 2.30.10//
CALSCALE:GREGORIAN
METHOD:PUBLISH
UID:4af39a5e-e824-4672-a4f8-e8db6ee7f841
X-WR-CALDESC:ARTS & CRAFTS- Empower\nHoliday Ornaments\n@ 1:00PM\n\nCHARACT
 ER BUILDING- Empower\nGratefulness\n@2:00PM\n\nFINANCIAL PLANNING- Empower
 \nFinancial Bingo @3:00PM
X-WR-RELCALID:71aad6f925e69b184ccf5e729f117d6b
X-WR-TIMEZONE:America/Chicago
BEGIN:VTIMEZONE
TZID:America/Chicago
BEGIN:STANDARD
TZNAME:CST
DTSTART:20241103T020000
TZOFFSETFROM:-0500
TZOFFSETTO:-0600
RDATE:20251102T020000
END:STANDARD
BEGIN:DAYLIGHT
TZNAME:CDT
DTSTART:20240310T020000
TZOFFSETFROM:-0600
TZOFFSETTO:-0500
RDATE:20250309T020000
RDATE:20260308T020000
END:DAYLIGHT
END:VTIMEZONE
BEGIN:VEVENT
UID:cae6a248-0bb9-4081-80e4-afff3e7409c1
DTSTAMP:20260423T013942Z
DESCRIPTION:ARTS & CRAFTS- Empower\nHoliday Ornaments\n@ 1:00PM\n\nCHARACTE
 R BUILDING- Empower\nGratefulness\n@2:00PM\n\nFINANCIAL PLANNING- Empower
 \nFinancial Bingo @3:00PM
DTSTART;TZID=America/Chicago:20241202T130000
DTEND;TZID=America/Chicago:20241202T160000
LOCATION:325 Flagship Boulevard\, Montgomery\, TX 77316 US
SUMMARY:The Heritage: Arts & Crafts\, Character Building\, Financial Planni
 ng
END:VEVENT
END:VCALENDAR
