BEGIN:VCALENDAR
VERSION:2.0
PRODID:-//empowercdc.org//NONSGML kigkonsult.se iCalcreator 2.30.10//
CALSCALE:GREGORIAN
METHOD:PUBLISH
UID:06679e27-df59-43a8-b7dc-837a42d0b0bb
X-WR-CALDESC:ARTS & CRAFTS: Velvet Poster Art\n@ 3:00 PM\n\n*Resident only 
 event*
X-WR-RELCALID:03c5087ad32f62291cca07da81db67bf
X-WR-TIMEZONE:America/Chicago
BEGIN:VTIMEZONE
TZID:America/Chicago
BEGIN:STANDARD
TZNAME:CST
DTSTART:20241103T020000
TZOFFSETFROM:-0500
TZOFFSETTO:-0600
RDATE:20251102T020000
END:STANDARD
BEGIN:DAYLIGHT
TZNAME:CDT
DTSTART:20240310T020000
TZOFFSETFROM:-0600
TZOFFSETTO:-0500
RDATE:20250309T020000
RDATE:20260308T020000
END:DAYLIGHT
END:VTIMEZONE
BEGIN:VEVENT
UID:96667317-fd43-47e1-8df2-0c342d167062
DTSTAMP:20260423T000310Z
DESCRIPTION:ARTS & CRAFTS: Velvet Poster Art\n@ 3:00 PM\n\n*Resident only e
 vent*
DTSTART;TZID=America/Chicago:20241122T150000
DTEND;TZID=America/Chicago:20241122T160000
LOCATION:12353 Huffmeister Rd\, Cypress\, TX 77429 US
SUMMARY:The Meadows: Arts & Crafts
END:VEVENT
END:VCALENDAR
