BEGIN:VCALENDAR
VERSION:2.0
PRODID:-//empowercdc.org//NONSGML kigkonsult.se iCalcreator 2.30.10//
CALSCALE:GREGORIAN
METHOD:PUBLISH
UID:374e2327-5b3b-44a3-b6cd-7db8ddc9af63
X-WR-CALDESC:EXERCISE- Empower\nTai Chi\n@10:00AM\n\nARTS & CRAFTS-\nEmpowe
 r\n\nHoliday Centerpiece\n@11:00AM\n\n*Resident only event*
X-WR-RELCALID:281f4b422a493e728178e6a526507f7c
X-WR-TIMEZONE:America/Chicago
BEGIN:VTIMEZONE
TZID:America/Chicago
BEGIN:STANDARD
TZNAME:CST
DTSTART:20241103T020000
TZOFFSETFROM:-0500
TZOFFSETTO:-0600
RDATE:20251102T020000
END:STANDARD
BEGIN:DAYLIGHT
TZNAME:CDT
DTSTART:20240310T020000
TZOFFSETFROM:-0600
TZOFFSETTO:-0500
RDATE:20250309T020000
RDATE:20260308T020000
END:DAYLIGHT
END:VTIMEZONE
BEGIN:VEVENT
UID:4038959f-a2df-49fc-ba02-a5fea6afeaac
DTSTAMP:20260423T000744Z
DESCRIPTION:EXERCISE- Empower\nTai Chi\n@10:00AM\n\nARTS & CRAFTS-\nEmpower
 \n\nHoliday Centerpiece\n@11:00AM\n\n*Resident only event*
DTSTART;TZID=America/Chicago:20241122T100000
DTEND;TZID=America/Chicago:20241122T120000
LOCATION:1830 Hollyoak Dr\, Houston\, TX 77084 US
SUMMARY:Hollyoak: Exercise & Holiday Centerpiece
END:VEVENT
END:VCALENDAR
