BEGIN:VCALENDAR
VERSION:2.0
PRODID:-//empowercdc.org//NONSGML kigkonsult.se iCalcreator 2.30.10//
CALSCALE:GREGORIAN
METHOD:PUBLISH
UID:3df4195b-ef09-4fe7-950e-96be724a2b76
X-WR-CALDESC:FOOD PANTRY-\nMonthly Food Pantry\n@2:00PM\n\nSOCIAL- Empower
 \nThanksgiving Celebration\n@3:30PM
X-WR-RELCALID:74e4958d9e11b82975f746c5bbef07f1
X-WR-TIMEZONE:America/Chicago
BEGIN:VTIMEZONE
TZID:America/Chicago
BEGIN:STANDARD
TZNAME:CST
DTSTART:20241103T020000
TZOFFSETFROM:-0500
TZOFFSETTO:-0600
RDATE:20251102T020000
END:STANDARD
BEGIN:DAYLIGHT
TZNAME:CDT
DTSTART:20240310T020000
TZOFFSETFROM:-0600
TZOFFSETTO:-0500
RDATE:20250309T020000
RDATE:20260308T020000
END:DAYLIGHT
END:VTIMEZONE
BEGIN:VEVENT
UID:ecb05802-6bd1-4ca3-9c2c-e3f7199c332a
DTSTAMP:20260420T131546Z
DESCRIPTION:FOOD PANTRY-\nMonthly Food Pantry\n@2:00PM\n\nSOCIAL- Empower\n
 Thanksgiving Celebration\n@3:30PM
DTSTART;TZID=America/Chicago:20241121T140000
DTEND;TZID=America/Chicago:20241121T160000
LOCATION:325 Flagship Boulevard\, Montgomery\, TX 77316 US
SUMMARY:The Heritage: Food Pantry\, Thanksgiving Celebration
END:VEVENT
END:VCALENDAR
