BEGIN:VCALENDAR
VERSION:2.0
PRODID:-//empowercdc.org//NONSGML kigkonsult.se iCalcreator 2.30.10//
CALSCALE:GREGORIAN
METHOD:PUBLISH
UID:a9fa9323-ef13-4df9-baf4-806e9d517600
X-WR-CALDESC:SOCIAL- Empower\nThanksgiving Celebration\n@11:30AM
X-WR-RELCALID:17d4962b9eccfd3c6b087c47ca337986
X-WR-TIMEZONE:America/Chicago
BEGIN:VTIMEZONE
TZID:America/Chicago
BEGIN:STANDARD
TZNAME:CST
DTSTART:20241103T020000
TZOFFSETFROM:-0500
TZOFFSETTO:-0600
RDATE:20251102T020000
END:STANDARD
BEGIN:DAYLIGHT
TZNAME:CDT
DTSTART:20240310T020000
TZOFFSETFROM:-0600
TZOFFSETTO:-0500
RDATE:20250309T020000
RDATE:20260308T020000
END:DAYLIGHT
END:VTIMEZONE
BEGIN:VEVENT
UID:bcda2aae-bd0d-40d6-8e01-4dcb5c5c8fb8
DTSTAMP:20260422T235423Z
DESCRIPTION:SOCIAL- Empower\nThanksgiving Celebration\n@11:30AM
DTSTART;TZID=America/Chicago:20241121T113000
DTEND;TZID=America/Chicago:20241121T133000
LOCATION:219 Flagship Blvd\, Montgomery\, TX 77316 US
SUMMARY:The Heritage 55+: Thanksgiving Celebration
END:VEVENT
END:VCALENDAR
