BEGIN:VCALENDAR
VERSION:2.0
PRODID:-//empowercdc.org//NONSGML kigkonsult.se iCalcreator 2.30.10//
CALSCALE:GREGORIAN
METHOD:PUBLISH
UID:719565c6-0f38-4bf4-b601-8fd3b2241f71
X-WR-CALDESC:SOCIAL\nBirthday Music Bingo Party\nCommunity Partner - JEREMY
  (GPHP)\n@11AM\n\nExercise: FITNESS BINGO\n@12PM\n\n*Resident only event*
X-WR-RELCALID:ad6894ae91e262f97fbed7ffc0470fab
X-WR-TIMEZONE:America/Chicago
BEGIN:VTIMEZONE
TZID:America/Chicago
BEGIN:STANDARD
TZNAME:CST
DTSTART:20241103T020000
TZOFFSETFROM:-0500
TZOFFSETTO:-0600
RDATE:20251102T020000
END:STANDARD
BEGIN:DAYLIGHT
TZNAME:CDT
DTSTART:20240310T020000
TZOFFSETFROM:-0600
TZOFFSETTO:-0500
RDATE:20250309T020000
RDATE:20260308T020000
END:DAYLIGHT
END:VTIMEZONE
BEGIN:VEVENT
UID:7b3ae264-3a29-4ad1-999a-6c9a11f20bd7
DTSTAMP:20260423T001512Z
DESCRIPTION:SOCIAL\nBirthday Music Bingo Party\nCommunity Partner - JEREMY 
 (GPHP)\n@11AM\n\nExercise: FITNESS BINGO\n@12PM\n\n*Resident only event*
DTSTART;TZID=America/Chicago:20241121T110000
DTEND;TZID=America/Chicago:20241121T130000
LOCATION:1717 FM359\, Richmond\, TX 77406 US
SUMMARY:Jones Creek: Birthday Music Bingo Party\, Exercise
END:VEVENT
END:VCALENDAR
