BEGIN:VCALENDAR
VERSION:2.0
PRODID:-//empowercdc.org//NONSGML kigkonsult.se iCalcreator 2.30.10//
CALSCALE:GREGORIAN
METHOD:PUBLISH
UID:fab49ce0-c451-4dba-999d-4bd8945ba53b
X-WR-CALDESC:ARTS & CRAFTS\nDYI SUN CATCHERS\n@11AM\n\nEXERCISE\nCHAIR EXER
 CISE\nCommunity Partner - Jeff Texan Benefits\n@12PM
X-WR-RELCALID:70692c58084c8cc2933d0076f1277e1d
X-WR-TIMEZONE:America/Chicago
BEGIN:VTIMEZONE
TZID:America/Chicago
BEGIN:STANDARD
TZNAME:CST
DTSTART:20241103T020000
TZOFFSETFROM:-0500
TZOFFSETTO:-0600
RDATE:20251102T020000
END:STANDARD
BEGIN:DAYLIGHT
TZNAME:CDT
DTSTART:20240310T020000
TZOFFSETFROM:-0600
TZOFFSETTO:-0500
RDATE:20250309T020000
RDATE:20260308T020000
END:DAYLIGHT
END:VTIMEZONE
BEGIN:VEVENT
UID:17a4199a-cab7-4c38-8abc-5a88dc234dab
DTSTAMP:20260423T000944Z
DESCRIPTION:ARTS & CRAFTS\nDYI SUN CATCHERS\n@11AM\n\nEXERCISE\nCHAIR EXERC
 ISE\nCommunity Partner - Jeff Texan Benefits\n@12PM
DTSTART;TZID=America/Chicago:20241119T110000
DTEND;TZID=America/Chicago:20241119T130000
LOCATION:15707 Kuykendahl Ct\, Conroe\, TX 77384 US
SUMMARY:Kuykendalh Court: Exercise\, Arts & Crafts
END:VEVENT
END:VCALENDAR
