BEGIN:VCALENDAR
VERSION:2.0
PRODID:-//empowercdc.org//NONSGML kigkonsult.se iCalcreator 2.30.10//
CALSCALE:GREGORIAN
METHOD:PUBLISH
UID:b393a79e-9b93-4cec-b272-426817c1b05c
X-WR-CALDESC:FOOD PANTRY-Empower\nMonthly Food Pantry\n\n@1:00 PM\n\n*Resid
 ent only event*
X-WR-RELCALID:25be90260f54f1dc8fcd0b8e1cf2b40d
X-WR-TIMEZONE:America/Chicago
BEGIN:VTIMEZONE
TZID:America/Chicago
BEGIN:STANDARD
TZNAME:CST
DTSTART:20241103T020000
TZOFFSETFROM:-0500
TZOFFSETTO:-0600
RDATE:20251102T020000
END:STANDARD
BEGIN:DAYLIGHT
TZNAME:CDT
DTSTART:20240310T020000
TZOFFSETFROM:-0600
TZOFFSETTO:-0500
RDATE:20250309T020000
RDATE:20260308T020000
END:DAYLIGHT
END:VTIMEZONE
BEGIN:VEVENT
UID:7f442522-7735-4e3a-9d74-56454fe26fc8
DTSTAMP:20260423T000805Z
DESCRIPTION:FOOD PANTRY-Empower\nMonthly Food Pantry\n\n@1:00 PM\n\n*Reside
 nt only event*
DTSTART;TZID=America/Chicago:20241119T130000
DTEND;TZID=America/Chicago:20241119T140000
LOCATION:6725 Brittmoore Road\, Houston\, TX 77041 US
SUMMARY:Brittmoore: Food Pantry
END:VEVENT
END:VCALENDAR
