BEGIN:VCALENDAR
VERSION:2.0
PRODID:-//empowercdc.org//NONSGML kigkonsult.se iCalcreator 2.30.10//
CALSCALE:GREGORIAN
METHOD:PUBLISH
UID:c9cd5078-33e5-4344-9a73-d1bbdfe915cb
X-WR-CALDESC:EXERCISE: Tai Chi\n@ 3:00 PM\n\n*Resident only event*
X-WR-RELCALID:28e9412558888a96627362d3b29c1d27
X-WR-TIMEZONE:America/Chicago
BEGIN:VTIMEZONE
TZID:America/Chicago
BEGIN:STANDARD
TZNAME:CST
DTSTART:20241103T020000
TZOFFSETFROM:-0500
TZOFFSETTO:-0600
RDATE:20251102T020000
END:STANDARD
BEGIN:DAYLIGHT
TZNAME:CDT
DTSTART:20240310T020000
TZOFFSETFROM:-0600
TZOFFSETTO:-0500
RDATE:20250309T020000
RDATE:20260308T020000
END:DAYLIGHT
END:VTIMEZONE
BEGIN:VEVENT
UID:93838498-5adf-4e0b-8642-d2dc14730194
DTSTAMP:20260422T235358Z
DESCRIPTION:EXERCISE: Tai Chi\n@ 3:00 PM\n\n*Resident only event*
DTSTART;TZID=America/Chicago:20241118T150000
DTEND;TZID=America/Chicago:20241118T160000
LOCATION:12353 Huffmeister Rd\, Cypress\, TX 77429 US
SUMMARY:The Meadows: Tai Chi
END:VEVENT
END:VCALENDAR
