BEGIN:VCALENDAR
VERSION:2.0
PRODID:-//empowercdc.org//NONSGML kigkonsult.se iCalcreator 2.30.10//
CALSCALE:GREGORIAN
METHOD:PUBLISH
UID:6750d06e-9443-470b-8b90-79ca2423d161
X-WR-CALDESC:EXERCISE\nADAPTIVE FITNESS\nCommunity Partner - TEXAS A&M\n@11
 AM
X-WR-RELCALID:31a6ed6d5d2bfb026d14184d875400f4
X-WR-TIMEZONE:America/Chicago
BEGIN:VTIMEZONE
TZID:America/Chicago
BEGIN:STANDARD
TZNAME:CST
DTSTART:20241103T020000
TZOFFSETFROM:-0500
TZOFFSETTO:-0600
RDATE:20251102T020000
END:STANDARD
BEGIN:DAYLIGHT
TZNAME:CDT
DTSTART:20240310T020000
TZOFFSETFROM:-0600
TZOFFSETTO:-0500
RDATE:20250309T020000
RDATE:20260308T020000
END:DAYLIGHT
END:VTIMEZONE
BEGIN:VEVENT
UID:ce13b78d-bb70-463e-ae78-c41896f7619b
DTSTAMP:20260423T000326Z
DESCRIPTION:EXERCISE\nADAPTIVE FITNESS\nCommunity Partner - TEXAS A&M\n@11A
 M
DTSTART;TZID=America/Chicago:20241115T110000
DTEND;TZID=America/Chicago:20241115T120000
LOCATION:15707 Kuykendahl Ct\, Conroe\, TX 77384 US
SUMMARY:Kuykendalh Court: Exercise
END:VEVENT
END:VCALENDAR
