BEGIN:VCALENDAR
VERSION:2.0
PRODID:-//empowercdc.org//NONSGML kigkonsult.se iCalcreator 2.30.10//
CALSCALE:GREGORIAN
METHOD:PUBLISH
UID:56873c47-5df0-40f9-a2d5-1a4885eb20b5
X-WR-CALDESC:ARTS & CRAFTS: Essential Oil Surprise\nCommunity Partner - DoT
 erra\n@11AM\n\n*Resident only event*
X-WR-RELCALID:32a7c254c117f1caf47c73a3e3db5568
X-WR-TIMEZONE:America/Chicago
BEGIN:VTIMEZONE
TZID:America/Chicago
BEGIN:STANDARD
TZNAME:CST
DTSTART:20241103T020000
TZOFFSETFROM:-0500
TZOFFSETTO:-0600
RDATE:20251102T020000
END:STANDARD
BEGIN:DAYLIGHT
TZNAME:CDT
DTSTART:20240310T020000
TZOFFSETFROM:-0600
TZOFFSETTO:-0500
RDATE:20250309T020000
RDATE:20260308T020000
END:DAYLIGHT
END:VTIMEZONE
BEGIN:VEVENT
UID:47337c22-2e09-4653-b749-f05b7c32d396
DTSTAMP:20260420T194720Z
DESCRIPTION:ARTS & CRAFTS: Essential Oil Surprise\nCommunity Partner - DoTe
 rra\n@11AM\n\n*Resident only event*
DTSTART;TZID=America/Chicago:20241115T110000
DTEND;TZID=America/Chicago:20241115T120000
LOCATION:1830 Hollyoak Dr\, Houston\, TX 77084 US
SUMMARY:Hollyoak: Arts & Crafts
END:VEVENT
END:VCALENDAR
