BEGIN:VCALENDAR
VERSION:2.0
PRODID:-//empowercdc.org//NONSGML kigkonsult.se iCalcreator 2.30.10//
CALSCALE:GREGORIAN
METHOD:PUBLISH
UID:433c0f94-28e1-497c-b7d1-e23d94f1ccb4
X-WR-CALDESC:ARTS & CRAFTS-Empower\nPuffy Eye Rollers\n@11:00AM
X-WR-RELCALID:f89cbd2abccbb4ea20ac55703bf03617
X-WR-TIMEZONE:America/Chicago
BEGIN:VTIMEZONE
TZID:America/Chicago
BEGIN:STANDARD
TZNAME:CST
DTSTART:20241103T020000
TZOFFSETFROM:-0500
TZOFFSETTO:-0600
RDATE:20251102T020000
END:STANDARD
BEGIN:DAYLIGHT
TZNAME:CDT
DTSTART:20240310T020000
TZOFFSETFROM:-0600
TZOFFSETTO:-0500
RDATE:20250309T020000
RDATE:20260308T020000
END:DAYLIGHT
END:VTIMEZONE
BEGIN:VEVENT
UID:cc7ec08e-342b-4f33-b021-a972d5a1dccf
DTSTAMP:20260423T000744Z
DESCRIPTION:ARTS & CRAFTS-Empower\nPuffy Eye Rollers\n@11:00AM
DTSTART;TZID=America/Chicago:20241114T110000
DTEND;TZID=America/Chicago:20241114T120000
LOCATION:219 Flagship Blvd\, Montgomery\, TX 77316 US
SUMMARY:The Heritage 55+: Arts & Craft
END:VEVENT
END:VCALENDAR
