BEGIN:VCALENDAR
VERSION:2.0
PRODID:-//empowercdc.org//NONSGML kigkonsult.se iCalcreator 2.30.10//
CALSCALE:GREGORIAN
METHOD:PUBLISH
UID:7cfdefe4-bb52-4b09-88e8-294952484000
X-WR-CALDESC:HEALTH & NUTRITION-Empower\nFruit Bash\n\n@ 3:00 PM\n\n*Reside
 nt only event*
X-WR-RELCALID:77c851bf1918ecb200b4e1351709b4b7
X-WR-TIMEZONE:America/Chicago
BEGIN:VTIMEZONE
TZID:America/Chicago
BEGIN:STANDARD
TZNAME:CST
DTSTART:20241103T020000
TZOFFSETFROM:-0500
TZOFFSETTO:-0600
RDATE:20251102T020000
END:STANDARD
BEGIN:DAYLIGHT
TZNAME:CDT
DTSTART:20240310T020000
TZOFFSETFROM:-0600
TZOFFSETTO:-0500
RDATE:20250309T020000
RDATE:20260308T020000
END:DAYLIGHT
END:VTIMEZONE
BEGIN:VEVENT
UID:1d125e63-459f-4978-9ab0-593a2f8693f8
DTSTAMP:20260423T001513Z
DESCRIPTION:HEALTH & NUTRITION-Empower\nFruit Bash\n\n@ 3:00 PM\n\n*Residen
 t only event*
DTSTART;TZID=America/Chicago:20241114T150000
DTEND;TZID=America/Chicago:20241114T160000
LOCATION:6725 Brittmoore Road\, Houston\, TX 77041 US
SUMMARY:Brittmoore: Health & Nutrition
END:VEVENT
END:VCALENDAR
