BEGIN:VCALENDAR
VERSION:2.0
PRODID:-//empowercdc.org//NONSGML kigkonsult.se iCalcreator 2.30.10//
CALSCALE:GREGORIAN
METHOD:PUBLISH
UID:0bd2aafc-c122-4d42-845c-950bcc0b5eb3
X-WR-CALDESC:SOCIAL\nBirthday MUSIC BINGO Party\nCommunity Partner-JEREMY G
 PHP\n@11AM
X-WR-RELCALID:ad974bd4d5ab4af6cf510765254e308c
X-WR-TIMEZONE:America/Chicago
BEGIN:VTIMEZONE
TZID:America/Chicago
BEGIN:STANDARD
TZNAME:CST
DTSTART:20241103T020000
TZOFFSETFROM:-0500
TZOFFSETTO:-0600
RDATE:20251102T020000
END:STANDARD
BEGIN:DAYLIGHT
TZNAME:CDT
DTSTART:20240310T020000
TZOFFSETFROM:-0600
TZOFFSETTO:-0500
RDATE:20250309T020000
RDATE:20260308T020000
END:DAYLIGHT
END:VTIMEZONE
BEGIN:VEVENT
UID:5405e417-ba93-4e89-9320-1ef6453d8af7
DTSTAMP:20260423T001215Z
DESCRIPTION:SOCIAL\nBirthday MUSIC BINGO Party\nCommunity Partner-JEREMY GP
 HP\n@11AM
DTSTART;TZID=America/Chicago:20241112T110000
DTEND;TZID=America/Chicago:20241112T120000
LOCATION:15707 Kuykendahl Ct\, Conroe\, TX 77384 US
SUMMARY:Kuykendalh Court: Birthday Music Bingo Party
END:VEVENT
END:VCALENDAR
