BEGIN:VCALENDAR
VERSION:2.0
PRODID:-//empowercdc.org//NONSGML kigkonsult.se iCalcreator 2.30.10//
CALSCALE:GREGORIAN
METHOD:PUBLISH
UID:f3c73116-827c-4635-a24a-ad351d862e78
X-WR-CALDESC:ARTS & CRAFTS: Bracelets\n@ 3:00 PM\n\n*Resident only event*
X-WR-RELCALID:fdb5a09f686c74a86d13049901ef82e1
X-WR-TIMEZONE:America/Chicago
BEGIN:VTIMEZONE
TZID:America/Chicago
BEGIN:STANDARD
TZNAME:CST
DTSTART:20241103T020000
TZOFFSETFROM:-0500
TZOFFSETTO:-0600
RDATE:20251102T020000
END:STANDARD
BEGIN:DAYLIGHT
TZNAME:CDT
DTSTART:20240310T020000
TZOFFSETFROM:-0600
TZOFFSETTO:-0500
RDATE:20250309T020000
RDATE:20260308T020000
END:DAYLIGHT
END:VTIMEZONE
BEGIN:VEVENT
UID:5b5a8783-03cc-4c6f-8d82-df1d336f7ba0
DTSTAMP:20260423T001452Z
DESCRIPTION:ARTS & CRAFTS: Bracelets\n@ 3:00 PM\n\n*Resident only event*
DTSTART;TZID=America/Chicago:20241108T150000
DTEND;TZID=America/Chicago:20241108T160000
LOCATION:12353 Huffmeister Rd\, Cypress\, TX 77429 US
SUMMARY:The Meadows: Arts & Crafts
END:VEVENT
END:VCALENDAR
