BEGIN:VCALENDAR
VERSION:2.0
PRODID:-//empowercdc.org//NONSGML kigkonsult.se iCalcreator 2.30.10//
CALSCALE:GREGORIAN
METHOD:PUBLISH
UID:a62c6861-6152-493f-9e35-44bd3472b191
X-WR-CALDESC:SOCIAL- Texans Benefit\nBirthday Social\n11:00AM\n\nEXERCISE- 
 BONA Fitness\nSuper Senior Fitness\n@1:00PM\n\n*Resident only event*
X-WR-RELCALID:8367342151486f6d4f05fa19de00a801
X-WR-TIMEZONE:America/Chicago
BEGIN:VTIMEZONE
TZID:America/Chicago
BEGIN:STANDARD
TZNAME:CST
DTSTART:20241103T020000
TZOFFSETFROM:-0500
TZOFFSETTO:-0600
RDATE:20251102T020000
END:STANDARD
BEGIN:DAYLIGHT
TZNAME:CDT
DTSTART:20240310T020000
TZOFFSETFROM:-0600
TZOFFSETTO:-0500
RDATE:20250309T020000
RDATE:20260308T020000
END:DAYLIGHT
END:VTIMEZONE
BEGIN:VEVENT
UID:0b7076cd-ce12-4de5-88ae-2810aa36cbad
DTSTAMP:20260421T113107Z
DESCRIPTION:SOCIAL- Texans Benefit\nBirthday Social\n11:00AM\n\nEXERCISE- B
 ONA Fitness\nSuper Senior Fitness\n@1:00PM\n\n*Resident only event*
DTSTART;TZID=America/Chicago:20241107T110000
DTEND;TZID=America/Chicago:20241107T140000
LOCATION:1830 Hollyoak Dr\, Houston\, TX 77084 US
SUMMARY:Hollyoak: Exercise & Texans Benefit
END:VEVENT
END:VCALENDAR
