BEGIN:VCALENDAR
VERSION:2.0
PRODID:-//empowercdc.org//NONSGML kigkonsult.se iCalcreator 2.30.10//
CALSCALE:GREGORIAN
METHOD:PUBLISH
UID:072d12fb-bc33-433a-88dc-4bf3366994f2
X-WR-CALDESC:EXERCISE: Tai Chi Exercise\n@10AM\n\n*Resident only event*
X-WR-RELCALID:928dd6a4cfd04202417078c7796a6ab3
X-WR-TIMEZONE:America/Chicago
BEGIN:VTIMEZONE
TZID:America/Chicago
BEGIN:STANDARD
TZNAME:CST
DTSTART:20241103T020000
TZOFFSETFROM:-0500
TZOFFSETTO:-0600
RDATE:20251102T020000
END:STANDARD
BEGIN:DAYLIGHT
TZNAME:CDT
DTSTART:20240310T020000
TZOFFSETFROM:-0600
TZOFFSETTO:-0500
RDATE:20250309T020000
RDATE:20260308T020000
END:DAYLIGHT
END:VTIMEZONE
BEGIN:VEVENT
UID:914bf2af-e872-445d-80f3-dd4598098585
DTSTAMP:20260422T235359Z
DESCRIPTION:EXERCISE: Tai Chi Exercise\n@10AM\n\n*Resident only event*
DTSTART;TZID=America/Chicago:20241105T100000
DTEND;TZID=America/Chicago:20241105T110000
LOCATION:1830 Hollyoak Dr\, Houston\, TX 77084 US
SUMMARY:Hollyoak: Tai Chi Exercise
END:VEVENT
END:VCALENDAR
