BEGIN:VCALENDAR
VERSION:2.0
PRODID:-//empowercdc.org//NONSGML kigkonsult.se iCalcreator 2.30.10//
CALSCALE:GREGORIAN
METHOD:PUBLISH
UID:88433854-318a-4c93-be44-d6b91793841b
X-WR-CALDESC:ARTS & CRAFTS-\nEmpower\n\nHoliday Centerpiece\n@10:00AM\n\nHE
 ALTH & NUTRITION\nCommunity Partner - Texas AgriLife\nAdaptive Fitness\n@1
 1:00AM
X-WR-RELCALID:efa17af752f3b83cddb083dd4617638a
X-WR-TIMEZONE:America/Chicago
BEGIN:VTIMEZONE
TZID:America/Chicago
BEGIN:STANDARD
TZNAME:CST
DTSTART:20231105T020000
TZOFFSETFROM:-0500
TZOFFSETTO:-0600
RDATE:20241103T020000
RDATE:20251102T020000
END:STANDARD
BEGIN:DAYLIGHT
TZNAME:CDT
DTSTART:20240310T020000
TZOFFSETFROM:-0600
TZOFFSETTO:-0500
RDATE:20250309T020000
RDATE:20260308T020000
END:DAYLIGHT
END:VTIMEZONE
BEGIN:VEVENT
UID:f8907aa4-95c6-41fe-bd84-fa53a72790f3
DTSTAMP:20260423T000545Z
DESCRIPTION:ARTS & CRAFTS-\nEmpower\n\nHoliday Centerpiece\n@10:00AM\n\nHEA
 LTH & NUTRITION\nCommunity Partner - Texas AgriLife\nAdaptive Fitness\n@11
 :00AM
DTSTART;TZID=America/Chicago:20241104T100000
DTEND;TZID=America/Chicago:20241104T120000
LOCATION:219 Flagship Blvd\, Montgomery\, TX 77316 US
SUMMARY:The Heritage 55+: Health & Nutrition\, Arts & Crafts
END:VEVENT
END:VCALENDAR
