BEGIN:VCALENDAR
VERSION:2.0
PRODID:-//empowercdc.org//NONSGML kigkonsult.se iCalcreator 2.30.10//
CALSCALE:GREGORIAN
METHOD:PUBLISH
UID:be5a0f30-f892-481c-8e60-9fe99b325741
X-WR-CALDESC:ARTS & CRAFTS: DYI BOOKMARK\n@10AM\n\nExercise: FITNESS BINGO
 \n@11AM\n\n*Resident only event*
X-WR-RELCALID:433611c971e9989acff7974af1cda102
X-WR-TIMEZONE:America/Chicago
BEGIN:VTIMEZONE
TZID:America/Chicago
BEGIN:STANDARD
TZNAME:CST
DTSTART:20231105T020000
TZOFFSETFROM:-0500
TZOFFSETTO:-0600
RDATE:20241103T020000
RDATE:20251102T020000
END:STANDARD
BEGIN:DAYLIGHT
TZNAME:CDT
DTSTART:20240310T020000
TZOFFSETFROM:-0600
TZOFFSETTO:-0500
RDATE:20250309T020000
RDATE:20260308T020000
END:DAYLIGHT
END:VTIMEZONE
BEGIN:VEVENT
UID:dbc79778-e327-4750-8394-ef228c3649b4
DTSTAMP:20260423T001334Z
DESCRIPTION:ARTS & CRAFTS: DYI BOOKMARK\n@10AM\n\nExercise: FITNESS BINGO\n
 @11AM\n\n*Resident only event*
DTSTART;TZID=America/Chicago:20241104T100000
DTEND;TZID=America/Chicago:20241104T120000
LOCATION:1717 FM359\, Richmond\, TX 77406 US
SUMMARY:Jones Creek: Fitness Bingo\, Arts & Crafts
END:VEVENT
END:VCALENDAR
