BEGIN:VCALENDAR
VERSION:2.0
PRODID:-//empowercdc.org//NONSGML kigkonsult.se iCalcreator 2.30.10//
CALSCALE:GREGORIAN
METHOD:PUBLISH
UID:0592a8ae-2e2c-4366-8eec-c216b70afbb8
X-WR-CALDESC:SOCIAL: Texans Benefit\, Thriller Bingo\n@2:00PM
X-WR-RELCALID:ac79a51bdd99330d49ac3603ed3a98ea
X-WR-TIMEZONE:America/Chicago
BEGIN:VTIMEZONE
TZID:America/Chicago
BEGIN:STANDARD
TZNAME:CST
DTSTART:20231105T020000
TZOFFSETFROM:-0500
TZOFFSETTO:-0600
RDATE:20241103T020000
RDATE:20251102T020000
END:STANDARD
BEGIN:DAYLIGHT
TZNAME:CDT
DTSTART:20240310T020000
TZOFFSETFROM:-0600
TZOFFSETTO:-0500
RDATE:20250309T020000
RDATE:20260308T020000
END:DAYLIGHT
END:VTIMEZONE
BEGIN:VEVENT
UID:316722e3-cbe5-4679-a51c-e1772bf8311f
DTSTAMP:20260422T222936Z
DESCRIPTION:SOCIAL: Texans Benefit\, Thriller Bingo\n@2:00PM
DTSTART;TZID=America/Chicago:20241031T140000
DTEND;TZID=America/Chicago:20241031T160000
LOCATION:219 Flagship Blvd\, Montgomery\, TX 77316 US
SUMMARY:The Heritage 55+: Thriller Bingo
END:VEVENT
END:VCALENDAR
