BEGIN:VCALENDAR
VERSION:2.0
PRODID:-//empowercdc.org//NONSGML kigkonsult.se iCalcreator 2.30.10//
CALSCALE:GREGORIAN
METHOD:PUBLISH
UID:8f307473-1c2a-4eaf-8d37-f874fa8d4b9c
X-WR-CALDESC:EXERCISE: Tai Chi Exercise\n@10AM\n\n*Resident only event*
X-WR-RELCALID:1e82ac4ec835edd38a396fd06589552e
X-WR-TIMEZONE:America/Chicago
BEGIN:VTIMEZONE
TZID:America/Chicago
BEGIN:STANDARD
TZNAME:CST
DTSTART:20231105T020000
TZOFFSETFROM:-0500
TZOFFSETTO:-0600
RDATE:20241103T020000
RDATE:20251102T020000
END:STANDARD
BEGIN:DAYLIGHT
TZNAME:CDT
DTSTART:20240310T020000
TZOFFSETFROM:-0600
TZOFFSETTO:-0500
RDATE:20250309T020000
RDATE:20260308T020000
END:DAYLIGHT
END:VTIMEZONE
BEGIN:VEVENT
UID:e5fe82ea-66f1-4496-a751-a552245d5bfd
DTSTAMP:20260422T222514Z
DESCRIPTION:EXERCISE: Tai Chi Exercise\n@10AM\n\n*Resident only event*
DTSTART;TZID=America/Chicago:20241029T100000
DTEND;TZID=America/Chicago:20241029T110000
LOCATION:1830 Hollyoak Dr\, Houston\, TX 77084 US
SUMMARY:Hollyoak: Tai Chi Exercise
END:VEVENT
END:VCALENDAR
