BEGIN:VCALENDAR
VERSION:2.0
PRODID:-//empowercdc.org//NONSGML kigkonsult.se iCalcreator 2.30.10//
CALSCALE:GREGORIAN
METHOD:PUBLISH
UID:417804b4-604d-4346-b49f-50cc7c9a2f7c
X-WR-CALDESC:SOCIAL: Costume Pet\, Parade/Contest\n@11:00AM
X-WR-RELCALID:0994bab082296e6033b917aaa63a8c73
X-WR-TIMEZONE:America/Chicago
BEGIN:VTIMEZONE
TZID:America/Chicago
BEGIN:STANDARD
TZNAME:CST
DTSTART:20231105T020000
TZOFFSETFROM:-0500
TZOFFSETTO:-0600
RDATE:20241103T020000
RDATE:20251102T020000
END:STANDARD
BEGIN:DAYLIGHT
TZNAME:CDT
DTSTART:20240310T020000
TZOFFSETFROM:-0600
TZOFFSETTO:-0500
RDATE:20250309T020000
RDATE:20260308T020000
END:DAYLIGHT
END:VTIMEZONE
BEGIN:VEVENT
UID:17fb89e6-0cdd-412f-8b7b-3b402a88407b
DTSTAMP:20260422T222813Z
DESCRIPTION:SOCIAL: Costume Pet\, Parade/Contest\n@11:00AM
DTSTART;TZID=America/Chicago:20241028T110000
DTEND;TZID=America/Chicago:20241028T130000
LOCATION:219 Flagship Blvd\, Montgomery\, TX 77316 US
SUMMARY:The Heritage 55+: Parade/Contest
END:VEVENT
END:VCALENDAR
