BEGIN:VCALENDAR
VERSION:2.0
PRODID:-//empowercdc.org//NONSGML kigkonsult.se iCalcreator 2.30.10//
CALSCALE:GREGORIAN
METHOD:PUBLISH
UID:2b8efa9f-a8ca-466c-af3f-aff642728075
X-WR-CALDESC:EXERCISE: Line Dance\n@11AM\n\nSOCIAL: Breast Cancer Informati
 on\, Birthday Party Socializing\n@12PM
X-WR-RELCALID:31de18a838eb16cafde8f24684394644
X-WR-TIMEZONE:America/Chicago
BEGIN:VTIMEZONE
TZID:America/Chicago
BEGIN:STANDARD
TZNAME:CST
DTSTART:20231105T020000
TZOFFSETFROM:-0500
TZOFFSETTO:-0600
RDATE:20241103T020000
RDATE:20251102T020000
END:STANDARD
BEGIN:DAYLIGHT
TZNAME:CDT
DTSTART:20240310T020000
TZOFFSETFROM:-0600
TZOFFSETTO:-0500
RDATE:20250309T020000
RDATE:20260308T020000
END:DAYLIGHT
END:VTIMEZONE
BEGIN:VEVENT
UID:f39b4b0a-a210-4b94-aa8a-2e19f4d66751
DTSTAMP:20260422T223356Z
DESCRIPTION:EXERCISE: Line Dance\n@11AM\n\nSOCIAL: Breast Cancer Informatio
 n\, Birthday Party Socializing\n@12PM
DTSTART;TZID=America/Chicago:20241025T110000
DTEND;TZID=America/Chicago:20241025T130000
LOCATION:15707 Kuykendahl Ct\, Conroe\, TX 77384 US
SUMMARY:Kuykendalh Court: Exercise\, Birthday Party (Social)
END:VEVENT
END:VCALENDAR
