BEGIN:VCALENDAR
VERSION:2.0
PRODID:-//empowercdc.org//NONSGML kigkonsult.se iCalcreator 2.30.10//
CALSCALE:GREGORIAN
METHOD:PUBLISH
UID:080ad4dd-aa34-475e-84d7-2dd0771efd21
X-WR-CALDESC:Exercise: Line Dance\n@3PM\n\n*Resident only event*
X-WR-RELCALID:84c118c4419120fefb30c398013912be
X-WR-TIMEZONE:America/Chicago
BEGIN:VTIMEZONE
TZID:America/Chicago
BEGIN:STANDARD
TZNAME:CST
DTSTART:20231105T020000
TZOFFSETFROM:-0500
TZOFFSETTO:-0600
RDATE:20241103T020000
RDATE:20251102T020000
END:STANDARD
BEGIN:DAYLIGHT
TZNAME:CDT
DTSTART:20240310T020000
TZOFFSETFROM:-0600
TZOFFSETTO:-0500
RDATE:20250309T020000
RDATE:20260308T020000
END:DAYLIGHT
END:VTIMEZONE
BEGIN:VEVENT
UID:8a87fde3-684c-40a2-a6ff-10fb2ee04faa
DTSTAMP:20260422T222450Z
DESCRIPTION:Exercise: Line Dance\n@3PM\n\n*Resident only event*
DTSTART;TZID=America/Chicago:20241024T150000
DTEND;TZID=America/Chicago:20241024T160000
LOCATION:1620 Spencer Hwy\, South Houston\, TX 77587 US
SUMMARY:Windsor Gardens: Line Dance
END:VEVENT
END:VCALENDAR
