BEGIN:VCALENDAR
VERSION:2.0
PRODID:-//empowercdc.org//NONSGML kigkonsult.se iCalcreator 2.30.10//
CALSCALE:GREGORIAN
METHOD:PUBLISH
UID:e1980970-cd49-496d-b949-a718d548ba73
X-WR-CALDESC:ARTS & CRAFTS: GPHGP\, Paint Party\n@11:00AM
X-WR-RELCALID:64070211809e44db8eddcd4a65352364
X-WR-TIMEZONE:America/Chicago
BEGIN:VTIMEZONE
TZID:America/Chicago
BEGIN:STANDARD
TZNAME:CST
DTSTART:20231105T020000
TZOFFSETFROM:-0500
TZOFFSETTO:-0600
RDATE:20241103T020000
RDATE:20251102T020000
END:STANDARD
BEGIN:DAYLIGHT
TZNAME:CDT
DTSTART:20240310T020000
TZOFFSETFROM:-0600
TZOFFSETTO:-0500
RDATE:20250309T020000
RDATE:20260308T020000
END:DAYLIGHT
END:VTIMEZONE
BEGIN:VEVENT
UID:13bccb66-a77d-479d-8bc6-5256c4a7c393
DTSTAMP:20260422T223022Z
DESCRIPTION:ARTS & CRAFTS: GPHGP\, Paint Party\n@11:00AM
DTSTART;TZID=America/Chicago:20241024T110000
DTEND;TZID=America/Chicago:20241024T120000
LOCATION:219 Flagship Blvd\, Montgomery\, TX 77316 US
SUMMARY:The Heritage 55+: Arts & Craft
END:VEVENT
END:VCALENDAR
