BEGIN:VCALENDAR
VERSION:2.0
PRODID:-//empowercdc.org//NONSGML kigkonsult.se iCalcreator 2.30.10//
CALSCALE:GREGORIAN
METHOD:PUBLISH
UID:dabec65a-b97a-4816-a7ef-38a68a7f9edf
X-WR-CALDESC:ARTS & CRAFTS: DYI BOOKMARK\n@10AM\n\nExercise: FITNESS BINGO
 \n@11AM\n\n*Resident only event*
X-WR-RELCALID:abd06c782d71ee1e5911867f44b990ae
X-WR-TIMEZONE:America/Chicago
BEGIN:VTIMEZONE
TZID:America/Chicago
BEGIN:STANDARD
TZNAME:CST
DTSTART:20231105T020000
TZOFFSETFROM:-0500
TZOFFSETTO:-0600
RDATE:20241103T020000
RDATE:20251102T020000
END:STANDARD
BEGIN:DAYLIGHT
TZNAME:CDT
DTSTART:20240310T020000
TZOFFSETFROM:-0600
TZOFFSETTO:-0500
RDATE:20250309T020000
RDATE:20260308T020000
END:DAYLIGHT
END:VTIMEZONE
BEGIN:VEVENT
UID:bfabe529-0971-426f-959f-e53969c9b2e2
DTSTAMP:20260422T223412Z
DESCRIPTION:ARTS & CRAFTS: DYI BOOKMARK\n@10AM\n\nExercise: FITNESS BINGO\n
 @11AM\n\n*Resident only event*
DTSTART;TZID=America/Chicago:20241024T110000
DTEND;TZID=America/Chicago:20241024T120000
LOCATION:1717 FM359\, Richmond\, TX 77406 US
SUMMARY:Jones Creek: Fitness Bingo\, Arts & Crafts
END:VEVENT
END:VCALENDAR
