BEGIN:VCALENDAR
VERSION:2.0
PRODID:-//empowercdc.org//NONSGML kigkonsult.se iCalcreator 2.30.10//
CALSCALE:GREGORIAN
METHOD:PUBLISH
UID:679a6a6a-211b-4594-a4dc-b010f9dc09cc
X-WR-CALDESC:SOCIAL: Suvida\, Bingo Bonanza\n@12PM\n\n*Resident only event*
X-WR-RELCALID:6409ad0d36013e127081865489729381
X-WR-TIMEZONE:America/Chicago
BEGIN:VTIMEZONE
TZID:America/Chicago
BEGIN:STANDARD
TZNAME:CST
DTSTART:20231105T020000
TZOFFSETFROM:-0500
TZOFFSETTO:-0600
RDATE:20241103T020000
RDATE:20251102T020000
END:STANDARD
BEGIN:DAYLIGHT
TZNAME:CDT
DTSTART:20240310T020000
TZOFFSETFROM:-0600
TZOFFSETTO:-0500
RDATE:20250309T020000
RDATE:20260308T020000
END:DAYLIGHT
END:VTIMEZONE
BEGIN:VEVENT
UID:9a470126-b573-49e6-aa30-17b9737cd092
DTSTAMP:20260422T222807Z
DESCRIPTION:SOCIAL: Suvida\, Bingo Bonanza\n@12PM\n\n*Resident only event*
DTSTART;TZID=America/Chicago:20241024T120000
DTEND;TZID=America/Chicago:20241024T140000
LOCATION:1830 Hollyoak Dr\, Houston\, TX 77084 US
SUMMARY:Hollyoak: Bingo Bonanza
END:VEVENT
END:VCALENDAR
