BEGIN:VCALENDAR
VERSION:2.0
PRODID:-//empowercdc.org//NONSGML kigkonsult.se iCalcreator 2.30.10//
CALSCALE:GREGORIAN
METHOD:PUBLISH
UID:45827ed2-1fae-4e56-87b3-6b3d9eac5cbf
X-WR-CALDESC:ARTS & CRAFTS-Empower\nHalloween Coloring\n@ 3:00 PM\n\n*Resid
 ent only event*
X-WR-RELCALID:f94da460256c33ca9a4eedb9c6677dc5
X-WR-TIMEZONE:America/Chicago
BEGIN:VTIMEZONE
TZID:America/Chicago
BEGIN:STANDARD
TZNAME:CST
DTSTART:20231105T020000
TZOFFSETFROM:-0500
TZOFFSETTO:-0600
RDATE:20241103T020000
RDATE:20251102T020000
END:STANDARD
BEGIN:DAYLIGHT
TZNAME:CDT
DTSTART:20240310T020000
TZOFFSETFROM:-0600
TZOFFSETTO:-0500
RDATE:20250309T020000
RDATE:20260308T020000
END:DAYLIGHT
END:VTIMEZONE
BEGIN:VEVENT
UID:ab6daaf9-9341-4817-8dac-3a264b68d145
DTSTAMP:20260422T222514Z
DESCRIPTION:ARTS & CRAFTS-Empower\nHalloween Coloring\n@ 3:00 PM\n\n*Reside
 nt only event*
DTSTART;TZID=America/Chicago:20241024T150000
DTEND;TZID=America/Chicago:20241024T160000
LOCATION:6725 Brittmoore Road\, Houston\, TX 77041 US
SUMMARY:Brittmoore: Arts & Crafts
END:VEVENT
END:VCALENDAR
