BEGIN:VCALENDAR
VERSION:2.0
PRODID:-//empowercdc.org//NONSGML kigkonsult.se iCalcreator 2.30.10//
CALSCALE:GREGORIAN
METHOD:PUBLISH
UID:cc925424-04b4-452e-b59f-393b7e9bda37
X-WR-CALDESC:ARTS & CRAFTS: Dyi Mask\n@3PM\n\n*Resident only event*
X-WR-RELCALID:899d36d852eac3f2314527c60e4f0283
X-WR-TIMEZONE:America/Chicago
BEGIN:VTIMEZONE
TZID:America/Chicago
BEGIN:STANDARD
TZNAME:CST
DTSTART:20231105T020000
TZOFFSETFROM:-0500
TZOFFSETTO:-0600
RDATE:20241103T020000
RDATE:20251102T020000
END:STANDARD
BEGIN:DAYLIGHT
TZNAME:CDT
DTSTART:20240310T020000
TZOFFSETFROM:-0600
TZOFFSETTO:-0500
RDATE:20250309T020000
RDATE:20260308T020000
END:DAYLIGHT
END:VTIMEZONE
BEGIN:VEVENT
UID:e7957293-5d6f-42ee-9bee-906996af04ec
DTSTAMP:20260421T134909Z
DESCRIPTION:ARTS & CRAFTS: Dyi Mask\n@3PM\n\n*Resident only event*
DTSTART;TZID=America/Chicago:20241021T150000
DTEND;TZID=America/Chicago:20241021T160000
LOCATION:1620 Spencer Hwy\, South Houston\, TX 77587 US
SUMMARY:Windsor Gardens: Arts & Crafts
END:VEVENT
END:VCALENDAR
