BEGIN:VCALENDAR
VERSION:2.0
PRODID:-//empowercdc.org//NONSGML kigkonsult.se iCalcreator 2.30.10//
CALSCALE:GREGORIAN
METHOD:PUBLISH
UID:5e483167-22a8-41af-a470-f07941aaf837
X-WR-CALDESC:ARTS & CRAFTS: Making Bracelets\n@ 3:00 PM\n\n*Resident only e
 vent*
X-WR-RELCALID:538c3ceedb39145fb442846d197bee01
X-WR-TIMEZONE:America/Chicago
BEGIN:VTIMEZONE
TZID:America/Chicago
BEGIN:STANDARD
TZNAME:CST
DTSTART:20231105T020000
TZOFFSETFROM:-0500
TZOFFSETTO:-0600
RDATE:20241103T020000
RDATE:20251102T020000
END:STANDARD
BEGIN:DAYLIGHT
TZNAME:CDT
DTSTART:20240310T020000
TZOFFSETFROM:-0600
TZOFFSETTO:-0500
RDATE:20250309T020000
RDATE:20260308T020000
END:DAYLIGHT
END:VTIMEZONE
BEGIN:VEVENT
UID:ad2cacb8-d6fd-442c-afdd-4c276491fb10
DTSTAMP:20260421T003800Z
DESCRIPTION:ARTS & CRAFTS: Making Bracelets\n@ 3:00 PM\n\n*Resident only ev
 ent*
DTSTART;TZID=America/Chicago:20241018T150000
DTEND;TZID=America/Chicago:20241018T160000
LOCATION:12353 Huffmeister Rd\, Cypress\, TX 77429 US
SUMMARY:The Meadows: Arts & Crafts
END:VEVENT
END:VCALENDAR
