BEGIN:VCALENDAR
VERSION:2.0
PRODID:-//empowercdc.org//NONSGML kigkonsult.se iCalcreator 2.30.10//
CALSCALE:GREGORIAN
METHOD:PUBLISH
UID:ba9258d8-a62f-43be-a15d-00eebde0d443
X-WR-CALDESC:Empower CDC will be providing a food pantry for the residents 
 of The Heritage starting at 2:00pm.
X-WR-RELCALID:cf40f4b387c07a99870af0692df064e5
X-WR-TIMEZONE:America/Chicago
BEGIN:VTIMEZONE
TZID:America/Chicago
BEGIN:STANDARD
TZNAME:CST
DTSTART:20231105T020000
TZOFFSETFROM:-0500
TZOFFSETTO:-0600
RDATE:20241103T020000
RDATE:20251102T020000
END:STANDARD
BEGIN:DAYLIGHT
TZNAME:CDT
DTSTART:20240310T020000
TZOFFSETFROM:-0600
TZOFFSETTO:-0500
RDATE:20250309T020000
RDATE:20260308T020000
END:DAYLIGHT
END:VTIMEZONE
BEGIN:VEVENT
UID:4befa00f-74d5-4edc-9dc1-870ac5b79935
DTSTAMP:20260422T223126Z
DESCRIPTION:Empower CDC will be providing a food pantry for the residents o
 f The Heritage starting at 2:00pm.
DTSTART;TZID=America/Chicago:20241017T140000
DTEND;TZID=America/Chicago:20241017T150000
LOCATION:325 Flagship Boulevard\, Montgomery\, TX 77316 US
SUMMARY:The Heritage: Food Pantry
END:VEVENT
END:VCALENDAR
