BEGIN:VCALENDAR
VERSION:2.0
PRODID:-//empowercdc.org//NONSGML kigkonsult.se iCalcreator 2.30.10//
CALSCALE:GREGORIAN
METHOD:PUBLISH
UID:6334d65a-1d6b-44bd-90db-8170a4da01a4
X-WR-CALDESC:EXERCISE: FITNESS BINGO\n@11AM\n\n*Resident only event*
X-WR-RELCALID:cba6e21e5af0d2e4f3fe8644636a83eb
X-WR-TIMEZONE:America/Chicago
BEGIN:VTIMEZONE
TZID:America/Chicago
BEGIN:STANDARD
TZNAME:CST
DTSTART:20231105T020000
TZOFFSETFROM:-0500
TZOFFSETTO:-0600
RDATE:20241103T020000
RDATE:20251102T020000
END:STANDARD
BEGIN:DAYLIGHT
TZNAME:CDT
DTSTART:20240310T020000
TZOFFSETFROM:-0600
TZOFFSETTO:-0500
RDATE:20250309T020000
RDATE:20260308T020000
END:DAYLIGHT
END:VTIMEZONE
BEGIN:VEVENT
UID:ccc185f3-fb23-4d23-9061-27d3e9c8cfd4
DTSTAMP:20260422T223356Z
DESCRIPTION:EXERCISE: FITNESS BINGO\n@11AM\n\n*Resident only event*
DTSTART;TZID=America/Chicago:20241017T110000
DTEND;TZID=America/Chicago:20241017T120000
LOCATION:1717 FM359\, Richmond\, TX 77406 US
SUMMARY:Jones Creek: Fitness Bingo
END:VEVENT
END:VCALENDAR
