BEGIN:VCALENDAR
VERSION:2.0
PRODID:-//empowercdc.org//NONSGML kigkonsult.se iCalcreator 2.30.10//
CALSCALE:GREGORIAN
METHOD:PUBLISH
UID:87deb8a0-86d0-4ca8-a119-06c0acde2ef2
X-WR-CALDESC:FINANCIAL PLANNING\n@11AM\n\nEXERCISE: Line Dance\n@12PM
X-WR-RELCALID:01ac5cdc374522374e08ec33e7fea456
X-WR-TIMEZONE:America/Chicago
BEGIN:VTIMEZONE
TZID:America/Chicago
BEGIN:STANDARD
TZNAME:CST
DTSTART:20231105T020000
TZOFFSETFROM:-0500
TZOFFSETTO:-0600
RDATE:20241103T020000
RDATE:20251102T020000
END:STANDARD
BEGIN:DAYLIGHT
TZNAME:CDT
DTSTART:20240310T020000
TZOFFSETFROM:-0600
TZOFFSETTO:-0500
RDATE:20250309T020000
RDATE:20260308T020000
END:DAYLIGHT
END:VTIMEZONE
BEGIN:VEVENT
UID:6859c375-e720-4e9a-92c1-66e6e3740101
DTSTAMP:20260422T223233Z
DESCRIPTION:FINANCIAL PLANNING\n@11AM\n\nEXERCISE: Line Dance\n@12PM
DTSTART;TZID=America/Chicago:20241015T110000
DTEND;TZID=America/Chicago:20241015T130000
LOCATION:15707 Kuykendahl Ct\, Conroe\, TX 77384 US
SUMMARY:Kuykendalh Court: Financial Planning\, Exercise
END:VEVENT
END:VCALENDAR
