BEGIN:VCALENDAR
VERSION:2.0
PRODID:-//empowercdc.org//NONSGML kigkonsult.se iCalcreator 2.30.10//
CALSCALE:GREGORIAN
METHOD:PUBLISH
UID:8f65d295-9e55-4bfe-b70f-e51e03994d2e
X-WR-CALDESC:SOCIAL: Brunch-n-Learn\, Resident Breakfast\n@10AM\n\nARTS & C
 RAFTS: DoTerra\, Essential Oil Surprise\n@11AM
X-WR-RELCALID:4a9c4b9edb7645ff8319d7ae9b34b1b2
X-WR-TIMEZONE:America/Chicago
BEGIN:VTIMEZONE
TZID:America/Chicago
BEGIN:STANDARD
TZNAME:CST
DTSTART:20231105T020000
TZOFFSETFROM:-0500
TZOFFSETTO:-0600
RDATE:20241103T020000
RDATE:20251102T020000
END:STANDARD
BEGIN:DAYLIGHT
TZNAME:CDT
DTSTART:20240310T020000
TZOFFSETFROM:-0600
TZOFFSETTO:-0500
RDATE:20250309T020000
RDATE:20260308T020000
END:DAYLIGHT
END:VTIMEZONE
BEGIN:VEVENT
UID:09d59069-6f32-4a3f-9187-86339a14bb97
DTSTAMP:20260422T223049Z
DESCRIPTION:SOCIAL: Brunch-n-Learn\, Resident Breakfast\n@10AM\n\nARTS & CR
 AFTS: DoTerra\, Essential Oil Surprise\n@11AM
DTSTART;TZID=America/Chicago:20241011T100000
DTEND;TZID=America/Chicago:20241011T120000
LOCATION:1830 Hollyoak Dr\, Houston\, TX 77084 US
SUMMARY:Hollyoak: Social\, Arts & Crafts
END:VEVENT
END:VCALENDAR
