BEGIN:VCALENDAR
VERSION:2.0
PRODID:-//empowercdc.org//NONSGML kigkonsult.se iCalcreator 2.30.10//
CALSCALE:GREGORIAN
METHOD:PUBLISH
UID:4c876acf-c4d2-4f65-bb1a-3f51e06cbfe4
X-WR-CALDESC:EXERCISE: Unity Fitness\, Chair Dance\n@10AM\n\n*Resident only
  event*
X-WR-RELCALID:ac63e00ff62eb291727e3c654d128e76
X-WR-TIMEZONE:America/Chicago
BEGIN:VTIMEZONE
TZID:America/Chicago
BEGIN:STANDARD
TZNAME:CST
DTSTART:20231105T020000
TZOFFSETFROM:-0500
TZOFFSETTO:-0600
RDATE:20241103T020000
RDATE:20251102T020000
END:STANDARD
BEGIN:DAYLIGHT
TZNAME:CDT
DTSTART:20240310T020000
TZOFFSETFROM:-0600
TZOFFSETTO:-0500
RDATE:20250309T020000
RDATE:20260308T020000
END:DAYLIGHT
END:VTIMEZONE
BEGIN:VEVENT
UID:3f5d4578-b0e2-4a95-9d9d-2f40005f17e3
DTSTAMP:20260422T222844Z
DESCRIPTION:EXERCISE: Unity Fitness\, Chair Dance\n@10AM\n\n*Resident only 
 event*
DTSTART;TZID=America/Chicago:20241009T100000
DTEND;TZID=America/Chicago:20241009T110000
LOCATION:1830 Hollyoak Dr\, Houston\, TX 77084 US
SUMMARY:Hollyoak: Unity Fitness
END:VEVENT
END:VCALENDAR
