BEGIN:VCALENDAR
VERSION:2.0
PRODID:-//empowercdc.org//NONSGML kigkonsult.se iCalcreator 2.30.10//
CALSCALE:GREGORIAN
METHOD:PUBLISH
UID:e1700af7-e01f-4577-a5d5-53f9e9b84d9d
X-WR-CALDESC:EXERCISE: Line Dance\n@11AM\n\nARTS AND CRAFTS: Making DYI Mas
 ks\n@12PM
X-WR-RELCALID:f2e28e95da5e1eefa83e9c9b08611342
X-WR-TIMEZONE:America/Chicago
BEGIN:VTIMEZONE
TZID:America/Chicago
BEGIN:STANDARD
TZNAME:CST
DTSTART:20231105T020000
TZOFFSETFROM:-0500
TZOFFSETTO:-0600
RDATE:20241103T020000
RDATE:20251102T020000
END:STANDARD
BEGIN:DAYLIGHT
TZNAME:CDT
DTSTART:20240310T020000
TZOFFSETFROM:-0600
TZOFFSETTO:-0500
RDATE:20250309T020000
RDATE:20260308T020000
END:DAYLIGHT
END:VTIMEZONE
BEGIN:VEVENT
UID:027a2e1c-72d1-4513-85fe-ae27b1f0700e
DTSTAMP:20260422T223222Z
DESCRIPTION:EXERCISE: Line Dance\n@11AM\n\nARTS AND CRAFTS: Making DYI Mask
 s\n@12PM
DTSTART;TZID=America/Chicago:20241008T110000
DTEND;TZID=America/Chicago:20241008T130000
LOCATION:15707 Kuykendahl Ct\, Conroe\, TX 77384 US
SUMMARY:Kuykendalh Court: Exercise\, Arts & Crafts
END:VEVENT
END:VCALENDAR
