BEGIN:VCALENDAR
VERSION:2.0
PRODID:-//empowercdc.org//NONSGML kigkonsult.se iCalcreator 2.30.10//
CALSCALE:GREGORIAN
METHOD:PUBLISH
UID:aa815a76-b28f-4440-b7f3-8ce6fabafc13
X-WR-CALDESC:EXERCISE: Dynamic Stretching\n@ 3:00 PM\n\nSOCIAL: Character B
 uilding\n@ 4:00 PM\n\n*Resident only event*
X-WR-RELCALID:6d492d2dc6c3005474bf2c1a34843bb3
X-WR-TIMEZONE:America/Chicago
BEGIN:VTIMEZONE
TZID:America/Chicago
BEGIN:STANDARD
TZNAME:CST
DTSTART:20231105T020000
TZOFFSETFROM:-0500
TZOFFSETTO:-0600
RDATE:20241103T020000
RDATE:20251102T020000
END:STANDARD
BEGIN:DAYLIGHT
TZNAME:CDT
DTSTART:20240310T020000
TZOFFSETFROM:-0600
TZOFFSETTO:-0500
RDATE:20250309T020000
RDATE:20260308T020000
END:DAYLIGHT
END:VTIMEZONE
BEGIN:VEVENT
UID:09bb26d3-a2eb-43a0-a476-3967150ffa91
DTSTAMP:20260422T222352Z
DESCRIPTION:EXERCISE: Dynamic Stretching\n@ 3:00 PM\n\nSOCIAL: Character Bu
 ilding\n@ 4:00 PM\n\n*Resident only event*
DTSTART;TZID=America/Chicago:20241007T150000
DTEND;TZID=America/Chicago:20241007T170000
LOCATION:12353 Huffmeister Rd\, Cypress\, TX 77429 US
SUMMARY:The Meadows: Exercise\, Character Building
END:VEVENT
END:VCALENDAR
