BEGIN:VCALENDAR
VERSION:2.0
PRODID:-//empowercdc.org//NONSGML kigkonsult.se iCalcreator 2.30.10//
CALSCALE:GREGORIAN
METHOD:PUBLISH
UID:07d212a0-9847-4eb8-92fe-b11b04baad01
X-WR-CALDESC:SOCIAL: Breast Cancer\, Birthday Bingo\n@11AM\n\n*Resident onl
 y event*
X-WR-RELCALID:58b6d24a9e7299cc7a7bf8ed92d6665c
X-WR-TIMEZONE:America/Chicago
BEGIN:VTIMEZONE
TZID:America/Chicago
BEGIN:STANDARD
TZNAME:CST
DTSTART:20231105T020000
TZOFFSETFROM:-0500
TZOFFSETTO:-0600
RDATE:20241103T020000
RDATE:20251102T020000
END:STANDARD
BEGIN:DAYLIGHT
TZNAME:CDT
DTSTART:20240310T020000
TZOFFSETFROM:-0600
TZOFFSETTO:-0500
RDATE:20250309T020000
RDATE:20260308T020000
END:DAYLIGHT
END:VTIMEZONE
BEGIN:VEVENT
UID:a622c94d-d729-454e-85ac-7bf55961a9f7
DTSTAMP:20260422T223049Z
DESCRIPTION:SOCIAL: Breast Cancer\, Birthday Bingo\n@11AM\n\n*Resident only
  event*
DTSTART;TZID=America/Chicago:20241007T110000
DTEND;TZID=America/Chicago:20241007T120000
LOCATION:1717 FM359\, Richmond\, TX 77406 US
SUMMARY:Jones Creek: Birthday Bingo
END:VEVENT
END:VCALENDAR
