BEGIN:VCALENDAR
VERSION:2.0
PRODID:-//empowercdc.org//NONSGML kigkonsult.se iCalcreator 2.30.10//
CALSCALE:GREGORIAN
METHOD:PUBLISH
UID:8048d87f-c2e6-402a-bfc3-794a2b783f13
X-WR-CALDESC:SOCIAL: Birthday Party Event for residents.\n@2PM\n\n*Resident
  only event*
X-WR-RELCALID:3bf20662ddd8f49ba7af9fdc1320806c
X-WR-TIMEZONE:America/Chicago
BEGIN:VTIMEZONE
TZID:America/Chicago
BEGIN:STANDARD
TZNAME:CST
DTSTART:20231105T020000
TZOFFSETFROM:-0500
TZOFFSETTO:-0600
RDATE:20241103T020000
RDATE:20251102T020000
END:STANDARD
BEGIN:DAYLIGHT
TZNAME:CDT
DTSTART:20240310T020000
TZOFFSETFROM:-0600
TZOFFSETTO:-0500
RDATE:20250309T020000
RDATE:20260308T020000
END:DAYLIGHT
END:VTIMEZONE
BEGIN:VEVENT
UID:4dc5afb0-f082-4a9b-a47c-0e17d9a91dbd
DTSTAMP:20260422T223228Z
DESCRIPTION:SOCIAL: Birthday Party Event for residents.\n@2PM\n\n*Resident 
 only event*
DTSTART;TZID=America/Chicago:20241003T140000
DTEND;TZID=America/Chicago:20241003T160000
LOCATION:325 Flagship Boulevard\, Montgomery\, TX 77316 US
SUMMARY:The Heritage: Birthday Party Social
END:VEVENT
END:VCALENDAR
