BEGIN:VCALENDAR
VERSION:2.0
PRODID:-//empowercdc.org//NONSGML kigkonsult.se iCalcreator 2.30.10//
CALSCALE:GREGORIAN
METHOD:PUBLISH
UID:f52e0d9b-a50e-42ae-a931-b88f0522dfb3
X-WR-CALDESC:SOCIAL: Texans Benefit\, Birthday Social\n@11AM\n\nEXERCISE: B
 ONA Fitness\, Super Senior Fitness\n@1PM\n\n*Resident only event*
X-WR-RELCALID:fd8fed865908198335a6eb7c14b3cb8a
X-WR-TIMEZONE:America/Chicago
BEGIN:VTIMEZONE
TZID:America/Chicago
BEGIN:STANDARD
TZNAME:CST
DTSTART:20231105T020000
TZOFFSETFROM:-0500
TZOFFSETTO:-0600
RDATE:20241103T020000
RDATE:20251102T020000
END:STANDARD
BEGIN:DAYLIGHT
TZNAME:CDT
DTSTART:20240310T020000
TZOFFSETFROM:-0600
TZOFFSETTO:-0500
RDATE:20250309T020000
RDATE:20260308T020000
END:DAYLIGHT
END:VTIMEZONE
BEGIN:VEVENT
UID:965326ca-8b83-44c0-9187-1558dee74867
DTSTAMP:20260421T095039Z
DESCRIPTION:SOCIAL: Texans Benefit\, Birthday Social\n@11AM\n\nEXERCISE: BO
 NA Fitness\, Super Senior Fitness\n@1PM\n\n*Resident only event*
DTSTART;TZID=America/Chicago:20241003T110000
DTEND;TZID=America/Chicago:20241003T140000
LOCATION:1830 Hollyoak Dr\, Houston\, TX 77084 US
SUMMARY:Hollyoak: Exercise & Birthday Social
END:VEVENT
END:VCALENDAR
