BEGIN:VCALENDAR
VERSION:2.0
PRODID:-//empowercdc.org//NONSGML kigkonsult.se iCalcreator 2.30.10//
CALSCALE:GREGORIAN
METHOD:PUBLISH
UID:03d37eb0-7000-4c55-bf38-8ed48399b23f
X-WR-CALDESC:EXERCISE: Line Dance\n@11AM\n\nARTS AND CRAFTS: Making DYI Mas
 ks\n@12PM
X-WR-RELCALID:7b392dedb5935f7709c000c9e4f473a7
X-WR-TIMEZONE:America/Chicago
BEGIN:VTIMEZONE
TZID:America/Chicago
BEGIN:STANDARD
TZNAME:CST
DTSTART:20231105T020000
TZOFFSETFROM:-0500
TZOFFSETTO:-0600
RDATE:20241103T020000
RDATE:20251102T020000
END:STANDARD
BEGIN:DAYLIGHT
TZNAME:CDT
DTSTART:20240310T020000
TZOFFSETFROM:-0600
TZOFFSETTO:-0500
RDATE:20250309T020000
RDATE:20260308T020000
END:DAYLIGHT
END:VTIMEZONE
BEGIN:VEVENT
UID:f2f8089f-bc79-43f0-8f77-30ae092267f4
DTSTAMP:20260422T223222Z
DESCRIPTION:EXERCISE: Line Dance\n@11AM\n\nARTS AND CRAFTS: Making DYI Mask
 s\n@12PM
DTSTART;TZID=America/Chicago:20241001T110000
DTEND;TZID=America/Chicago:20241001T130000
LOCATION:15707 Kuykendahl Ct\, Conroe\, TX 77384 US
SUMMARY:Kuykendalh Court: Exercise\, Arts & Crafts
END:VEVENT
END:VCALENDAR
