BEGIN:VCALENDAR
VERSION:2.0
PRODID:-//empowercdc.org//NONSGML kigkonsult.se iCalcreator 2.30.10//
CALSCALE:GREGORIAN
METHOD:PUBLISH
UID:e964f0d2-d0ee-4520-9528-895b5b76f259
X-WR-CALDESC:EXERCISE - Dynamic Stretching\n@ 3:00 PM\n\nARTS & CRAFTS - Pa
 inting w/ a twist\n@ 4:00 PM\n\n*Resident only event*
X-WR-RELCALID:0df6cd446fd34d4f2bb8c2af57a3671f
X-WR-TIMEZONE:America/Chicago
BEGIN:VTIMEZONE
TZID:America/Chicago
BEGIN:STANDARD
TZNAME:CST
DTSTART:20231105T020000
TZOFFSETFROM:-0500
TZOFFSETTO:-0600
RDATE:20241103T020000
RDATE:20251102T020000
END:STANDARD
BEGIN:DAYLIGHT
TZNAME:CDT
DTSTART:20240310T020000
TZOFFSETFROM:-0600
TZOFFSETTO:-0500
RDATE:20250309T020000
RDATE:20260308T020000
END:DAYLIGHT
END:VTIMEZONE
BEGIN:VEVENT
UID:671c2af7-6c75-43b9-9e74-548ff774c734
DTSTAMP:20260422T205227Z
DESCRIPTION:EXERCISE - Dynamic Stretching\n@ 3:00 PM\n\nARTS & CRAFTS - Pai
 nting w/ a twist\n@ 4:00 PM\n\n*Resident only event*
DTSTART;TZID=America/Chicago:20240930T150000
DTEND;TZID=America/Chicago:20240930T170000
LOCATION:12353 Huffmeister Rd\, Cypress\, TX 77429 US
SUMMARY:The Meadows: Exercise & Arts / Crafts
END:VEVENT
END:VCALENDAR
