BEGIN:VCALENDAR
VERSION:2.0
PRODID:-//empowercdc.org//NONSGML kigkonsult.se iCalcreator 2.30.10//
CALSCALE:GREGORIAN
METHOD:PUBLISH
UID:a3da1a26-a135-4de5-9427-aa148df7bae2
X-WR-CALDESC:ARTS & CRAFTS - DIY Bead Pens\n\n@11am\n\n*Resident only event
 *
X-WR-RELCALID:3a3da736aabbafeaeb13bc58a8b056ed
X-WR-TIMEZONE:America/Chicago
BEGIN:VTIMEZONE
TZID:America/Chicago
BEGIN:STANDARD
TZNAME:CST
DTSTART:20231105T020000
TZOFFSETFROM:-0500
TZOFFSETTO:-0600
RDATE:20241103T020000
RDATE:20251102T020000
END:STANDARD
BEGIN:DAYLIGHT
TZNAME:CDT
DTSTART:20240310T020000
TZOFFSETFROM:-0600
TZOFFSETTO:-0500
RDATE:20250309T020000
RDATE:20260308T020000
END:DAYLIGHT
END:VTIMEZONE
BEGIN:VEVENT
UID:0d2faf79-276b-4c86-90a6-90b3a0e25a05
DTSTAMP:20260422T211628Z
DESCRIPTION:ARTS & CRAFTS - DIY Bead Pens\n\n@11am\n\n*Resident only event*
DTSTART;TZID=America/Chicago:20240930T110000
DTEND;TZID=America/Chicago:20240930T120000
LOCATION:1717 FM359\, Richmond\, TX 77406 US
SUMMARY:Jones Creek: Arts & Crafts
END:VEVENT
END:VCALENDAR
