BEGIN:VCALENDAR
VERSION:2.0
PRODID:-//empowercdc.org//NONSGML kigkonsult.se iCalcreator 2.30.10//
CALSCALE:GREGORIAN
METHOD:PUBLISH
UID:90d3684c-64a4-4887-9abb-9e401c41577d
X-WR-CALDESC:HEALTH & NUTRITION - Homemade Salad Dressing\n\n@ 10:30AM\n\n*
 Registration Required* Contact Daniel for registration.
X-WR-RELCALID:ff117c4631f4aa58149d8c24f8b065fe
X-WR-TIMEZONE:America/Chicago
BEGIN:VTIMEZONE
TZID:America/Chicago
BEGIN:STANDARD
TZNAME:CST
DTSTART:20231105T020000
TZOFFSETFROM:-0500
TZOFFSETTO:-0600
RDATE:20241103T020000
RDATE:20251102T020000
END:STANDARD
BEGIN:DAYLIGHT
TZNAME:CDT
DTSTART:20240310T020000
TZOFFSETFROM:-0600
TZOFFSETTO:-0500
RDATE:20250309T020000
RDATE:20260308T020000
END:DAYLIGHT
END:VTIMEZONE
BEGIN:VEVENT
UID:6dd0d5d1-5bd4-40d5-9573-520c8a5944e6
DTSTAMP:20260422T212216Z
DESCRIPTION:HEALTH & NUTRITION - Homemade Salad Dressing\n\n@ 10:30AM\n\n*R
 egistration Required* Contact Daniel for registration.
DTSTART;TZID=America/Chicago:20240926T103000
DTEND;TZID=America/Chicago:20240926T113000
LOCATION:219 Flagship Blvd\, Montgomery\, TX 77316 US
SUMMARY:The Heritage 55+: Health & Nutrition
END:VEVENT
END:VCALENDAR
