BEGIN:VCALENDAR
VERSION:2.0
PRODID:-//empowercdc.org//NONSGML kigkonsult.se iCalcreator 2.30.10//
CALSCALE:GREGORIAN
METHOD:PUBLISH
UID:1e365fe5-8f16-4bd7-80f8-28d9fde18bdc
X-WR-CALDESC:SOCIAL - The Price is Right\n\nCommunity Partner - Jeff (Texan
 s Benefits)\n\n@11am
X-WR-RELCALID:69a602917cb2b2fcf8c23c77d0cc910e
X-WR-TIMEZONE:America/Chicago
BEGIN:VTIMEZONE
TZID:America/Chicago
BEGIN:STANDARD
TZNAME:CST
DTSTART:20231105T020000
TZOFFSETFROM:-0500
TZOFFSETTO:-0600
RDATE:20241103T020000
RDATE:20251102T020000
END:STANDARD
BEGIN:DAYLIGHT
TZNAME:CDT
DTSTART:20240310T020000
TZOFFSETFROM:-0600
TZOFFSETTO:-0500
RDATE:20250309T020000
RDATE:20260308T020000
END:DAYLIGHT
END:VTIMEZONE
BEGIN:VEVENT
UID:d5148cb0-c6bc-4899-93af-dbd11f86f822
DTSTAMP:20260421T005617Z
DESCRIPTION:SOCIAL - The Price is Right\n\nCommunity Partner - Jeff (Texans
  Benefits)\n\n@11am
DTSTART;TZID=America/Chicago:20240920T110000
DTEND;TZID=America/Chicago:20240920T120000
LOCATION:15707 Kuykendahl Ct\, Conroe\, TX 77384 US
SUMMARY:Kuykendalh Court: The Price is Right
END:VEVENT
END:VCALENDAR
