BEGIN:VCALENDAR
VERSION:2.0
PRODID:-//empowercdc.org//NONSGML kigkonsult.se iCalcreator 2.30.10//
CALSCALE:GREGORIAN
METHOD:PUBLISH
UID:d4de3dcf-05e3-4ab3-a4a1-b5420614eac9
X-WR-CALDESC:SOCIAL - Birthday Social\n@1:00PM\n\nFOOD PANTRY - Monthly Foo
 d Pantry\n@2:00PM\n\n*Residents only event*
X-WR-RELCALID:d942414ab5a97fde32129b8a1bf46da0
X-WR-TIMEZONE:America/Chicago
BEGIN:VTIMEZONE
TZID:America/Chicago
BEGIN:STANDARD
TZNAME:CST
DTSTART:20231105T020000
TZOFFSETFROM:-0500
TZOFFSETTO:-0600
RDATE:20241103T020000
RDATE:20251102T020000
END:STANDARD
BEGIN:DAYLIGHT
TZNAME:CDT
DTSTART:20240310T020000
TZOFFSETFROM:-0600
TZOFFSETTO:-0500
RDATE:20250309T020000
RDATE:20260308T020000
END:DAYLIGHT
END:VTIMEZONE
BEGIN:VEVENT
UID:e13819d5-fd3d-4003-aaf0-7d92a6009476
DTSTAMP:20260419T184704Z
DESCRIPTION:SOCIAL - Birthday Social\n@1:00PM\n\nFOOD PANTRY - Monthly Food
  Pantry\n@2:00PM\n\n*Residents only event*
DTSTART;TZID=America/Chicago:20240919T130000
DTEND;TZID=America/Chicago:20240919T150000
LOCATION:219 Flagship Bld\, Montgomery\, TX 77316 US
SUMMARY:The Heritage: Social\, Food Pantry
END:VEVENT
END:VCALENDAR
