BEGIN:VCALENDAR
VERSION:2.0
PRODID:-//empowercdc.org//NONSGML kigkonsult.se iCalcreator 2.30.10//
CALSCALE:GREGORIAN
METHOD:PUBLISH
UID:320bd19c-b010-4d72-bcc3-d7b84ceb6f7b
X-WR-CALDESC:ARTS & CRAFTS - Velvet Poster Art\n\n@10:00AM
X-WR-RELCALID:d5acad2747b218db777608e6924b3b93
X-WR-TIMEZONE:America/Chicago
BEGIN:VTIMEZONE
TZID:America/Chicago
BEGIN:STANDARD
TZNAME:CST
DTSTART:20231105T020000
TZOFFSETFROM:-0500
TZOFFSETTO:-0600
RDATE:20241103T020000
RDATE:20251102T020000
END:STANDARD
BEGIN:DAYLIGHT
TZNAME:CDT
DTSTART:20240310T020000
TZOFFSETFROM:-0600
TZOFFSETTO:-0500
RDATE:20250309T020000
RDATE:20260308T020000
END:DAYLIGHT
END:VTIMEZONE
BEGIN:VEVENT
UID:d8fada33-ac0d-4324-8276-80f9ac7731ca
DTSTAMP:20260422T211813Z
DESCRIPTION:ARTS & CRAFTS - Velvet Poster Art\n\n@10:00AM
DTSTART;TZID=America/Chicago:20240919T100000
DTEND;TZID=America/Chicago:20240919T110000
LOCATION:219 Flagship Blvd\, Montgomery\, TX 77316 US
SUMMARY:The Heritage 55+: Arts & Craft
END:VEVENT
END:VCALENDAR
