BEGIN:VCALENDAR
VERSION:2.0
PRODID:-//empowercdc.org//NONSGML kigkonsult.se iCalcreator 2.30.10//
CALSCALE:GREGORIAN
METHOD:PUBLISH
UID:e35318c4-fb0e-46c7-a0f7-008cb0b04918
X-WR-CALDESC:HEALTH & NUTRITION-Empower\nFruit Bash\n\n@ 3:00 PM\n\n*Reside
 nt only event*
X-WR-RELCALID:3dd3ca4cfc40f4d2a0094bc8e47fedce
X-WR-TIMEZONE:America/Chicago
BEGIN:VTIMEZONE
TZID:America/Chicago
BEGIN:STANDARD
TZNAME:CST
DTSTART:20231105T020000
TZOFFSETFROM:-0500
TZOFFSETTO:-0600
RDATE:20241103T020000
RDATE:20251102T020000
END:STANDARD
BEGIN:DAYLIGHT
TZNAME:CDT
DTSTART:20240310T020000
TZOFFSETFROM:-0600
TZOFFSETTO:-0500
RDATE:20250309T020000
RDATE:20260308T020000
END:DAYLIGHT
END:VTIMEZONE
BEGIN:VEVENT
UID:efaf53b0-61b2-4b72-ae83-ad1d739c9170
DTSTAMP:20260422T211751Z
DESCRIPTION:HEALTH & NUTRITION-Empower\nFruit Bash\n\n@ 3:00 PM\n\n*Residen
 t only event*
DTSTART;TZID=America/Chicago:20240917T150000
DTEND;TZID=America/Chicago:20240917T160000
LOCATION:6725 Brittmoore Road\, Houston\, TX 77041 US
SUMMARY:Brittmoore: Health & Nutrition
END:VEVENT
END:VCALENDAR
